BEGIN:VCALENDAR
VERSION:2.0
PRODID:-//SP Männedorf - ECPv6.15.20//NONSGML v1.0//EN
CALSCALE:GREGORIAN
METHOD:PUBLISH
X-WR-CALNAME:SP Männedorf
X-ORIGINAL-URL:https://sp-maennedorf.ch
X-WR-CALDESC:Veranstaltungen im SP Männedorf
REFRESH-INTERVAL;VALUE=DURATION:PT1H
X-Robots-Tag:noindex
X-PUBLISHED-TTL:PT1H
BEGIN:VTIMEZONE
TZID:Europe/Zurich
BEGIN:DAYLIGHT
TZOFFSETFROM:+0100
TZOFFSETTO:+0200
TZNAME:CEST
DTSTART:20250330T010000
END:DAYLIGHT
BEGIN:STANDARD
TZOFFSETFROM:+0200
TZOFFSETTO:+0100
TZNAME:CET
DTSTART:20251026T010000
END:STANDARD
BEGIN:DAYLIGHT
TZOFFSETFROM:+0100
TZOFFSETTO:+0200
TZNAME:CEST
DTSTART:20260329T010000
END:DAYLIGHT
BEGIN:STANDARD
TZOFFSETFROM:+0200
TZOFFSETTO:+0100
TZNAME:CET
DTSTART:20261025T010000
END:STANDARD
BEGIN:DAYLIGHT
TZOFFSETFROM:+0100
TZOFFSETTO:+0200
TZNAME:CEST
DTSTART:20270328T010000
END:DAYLIGHT
BEGIN:STANDARD
TZOFFSETFROM:+0200
TZOFFSETTO:+0100
TZNAME:CET
DTSTART:20271031T010000
END:STANDARD
END:VTIMEZONE
BEGIN:VEVENT
DTSTART;TZID=Europe/Zurich:20260501T140000
DTEND;TZID=Europe/Zurich:20260501T163000
DTSTAMP:20260422T153141
CREATED:20260421T125322Z
LAST-MODIFIED:20260421T125352Z
UID:89163-1777644000-1777653000@sp-maennedorf.ch
SUMMARY:1. Mai: Gemeinsam gegen Krieg und Faschismus!
DESCRIPTION:Komm am Freitag\, 1. Mai an unsere Feier im Löwen in Meilen.\nEs wird ein bunter Nachmittag mit Witz\, Politik und live Band ♥️ \nStänderat Daniel Jositch und Alt-Kantonsrat Hanspeter Göldi sind beim Pubquiz dabei.\nKannst du Fragen besser beanwtorten als unsere erfahrenen Politiker? \nFür die musikalische Stimmung sorgt die Band Moped feat. Rose. \nBring Freund:innen und Kinder: auch für sie wird gesorgt sein\, denn der 1. Mai ist ein Fest für alle!\nAb 14 Uhr gehts los\, wir freuen uns auf dich! \n 
URL:https://sp-maennedorf.ch/veranstaltung/1-mai-gemeinsam-gegen-krieg-und-faschismus/
LOCATION:Restaurant Löwen Meilen\, Seestrasse 595\, Meilen\, 8706\, Switzerland
CATEGORIES:Unterhaltung
ATTACH;FMTTYPE=image/png:https://sp-maennedorf.ch/wp-content/uploads/sites/39/2026/04/Screenshot-2026-04-21-at-14-46-46-6-Instagram.png
ORGANIZER;CN="SP M%C3%A4nnedorf":MAILTO:vorstand@sp-maennedorf.ch
END:VEVENT
END:VCALENDAR